BEGIN:VCALENDAR
VERSION:2.0
PRODID:-//MPBA - ECPv6.15.14//NONSGML v1.0//EN
CALSCALE:GREGORIAN
METHOD:PUBLISH
X-ORIGINAL-URL:https://www.mpba-fes.org.uk
X-WR-CALDESC:Events for MPBA
REFRESH-INTERVAL;VALUE=DURATION:PT1H
X-Robots-Tag:noindex
X-PUBLISHED-TTL:PT1H
BEGIN:VTIMEZONE
TZID:Europe/London
BEGIN:DAYLIGHT
TZOFFSETFROM:+0000
TZOFFSETTO:+0100
TZNAME:BST
DTSTART:20250330T010000
END:DAYLIGHT
BEGIN:STANDARD
TZOFFSETFROM:+0100
TZOFFSETTO:+0000
TZNAME:GMT
DTSTART:20251026T010000
END:STANDARD
BEGIN:DAYLIGHT
TZOFFSETFROM:+0000
TZOFFSETTO:+0100
TZNAME:BST
DTSTART:20260329T010000
END:DAYLIGHT
BEGIN:STANDARD
TZOFFSETFROM:+0100
TZOFFSETTO:+0000
TZNAME:GMT
DTSTART:20261025T010000
END:STANDARD
BEGIN:DAYLIGHT
TZOFFSETFROM:+0000
TZOFFSETTO:+0100
TZNAME:BST
DTSTART:20270328T010000
END:DAYLIGHT
BEGIN:STANDARD
TZOFFSETFROM:+0100
TZOFFSETTO:+0000
TZNAME:GMT
DTSTART:20271031T010000
END:STANDARD
END:VTIMEZONE
BEGIN:VEVENT
DTSTART;TZID=Europe/London:20260510T090000
DTEND;TZID=Europe/London:20260510T170000
DTSTAMP:20260421T201437
CREATED:20251013T180059Z
LAST-MODIFIED:20251013T180118Z
UID:2359-1778403600-1778432400@www.mpba-fes.org.uk
SUMMARY:NADs Round 2
DESCRIPTION:
URL:https://www.mpba-fes.org.uk/event/nads-round-2-8/
LOCATION:BMBS\, Lancaster Road\, Bridlington\, YO15 3QY\, United Kingdom
ORGANIZER;CN="NADs (Northern Amp Draggers)":MAILTO:webmaster@ampdraggers.co.uk
END:VEVENT
BEGIN:VEVENT
DTSTART;TZID=Europe/London:20260607T080000
DTEND;TZID=Europe/London:20260607T170000
DTSTAMP:20260421T201437
CREATED:20251013T180233Z
LAST-MODIFIED:20251013T180233Z
UID:2361-1780819200-1780851600@www.mpba-fes.org.uk
SUMMARY:NADs Round 3
DESCRIPTION:
URL:https://www.mpba-fes.org.uk/event/nads-round-3-8/
LOCATION:BMBS\, Lancaster Road\, Bridlington\, YO15 3QY\, United Kingdom
ORGANIZER;CN="NADs (Northern Amp Draggers)":MAILTO:webmaster@ampdraggers.co.uk
END:VEVENT
BEGIN:VEVENT
DTSTART;TZID=Europe/London:20260626T080000
DTEND;TZID=Europe/London:20260628T170000
DTSTAMP:20260421T201437
CREATED:20251013T180420Z
LAST-MODIFIED:20251013T180420Z
UID:2363-1782460800-1782666000@www.mpba-fes.org.uk
SUMMARY:MPBA Nationals
DESCRIPTION:
URL:https://www.mpba-fes.org.uk/event/mpba-nationals-2/
LOCATION:BMBS\, Lancaster Road\, Bridlington\, YO15 3QY\, United Kingdom
ORGANIZER;CN="MPBA-FES":MAILTO:admin@mpba-fes.org.uk
END:VEVENT
BEGIN:VEVENT
DTSTART;TZID=Europe/London:20260726T090000
DTEND;TZID=Europe/London:20260726T170000
DTSTAMP:20260421T201437
CREATED:20251013T180535Z
LAST-MODIFIED:20251013T180535Z
UID:2365-1785056400-1785085200@www.mpba-fes.org.uk
SUMMARY:NADs Round 4
DESCRIPTION:
URL:https://www.mpba-fes.org.uk/event/nads-round-4-8/
LOCATION:BMBS\, Lancaster Road\, Bridlington\, YO15 3QY\, United Kingdom
ORGANIZER;CN="NADs (Northern Amp Draggers)":MAILTO:webmaster@ampdraggers.co.uk
END:VEVENT
BEGIN:VEVENT
DTSTART;TZID=Europe/London:20260830T080000
DTEND;TZID=Europe/London:20260830T170000
DTSTAMP:20260421T201437
CREATED:20251013T180624Z
LAST-MODIFIED:20251013T180624Z
UID:2367-1788076800-1788109200@www.mpba-fes.org.uk
SUMMARY:NADs Round 5
DESCRIPTION:
URL:https://www.mpba-fes.org.uk/event/nads-round-5-8/
LOCATION:BMBS\, Lancaster Road\, Bridlington\, YO15 3QY\, United Kingdom
ORGANIZER;CN="NADs (Northern Amp Draggers)":MAILTO:webmaster@ampdraggers.co.uk
END:VEVENT
BEGIN:VEVENT
DTSTART;TZID=Europe/London:20260920T080000
DTEND;TZID=Europe/London:20260920T170000
DTSTAMP:20260421T201437
CREATED:20251013T180734Z
LAST-MODIFIED:20251013T180734Z
UID:2369-1789891200-1789923600@www.mpba-fes.org.uk
SUMMARY:NADs Round 6
DESCRIPTION:
URL:https://www.mpba-fes.org.uk/event/nads-round-6-8/
LOCATION:BMBS\, Lancaster Road\, Bridlington\, YO15 3QY\, United Kingdom
ORGANIZER;CN="NADs (Northern Amp Draggers)":MAILTO:webmaster@ampdraggers.co.uk
END:VEVENT
BEGIN:VEVENT
DTSTART;TZID=Europe/London:20261018T080000
DTEND;TZID=Europe/London:20261018T170000
DTSTAMP:20260421T201437
CREATED:20251013T180829Z
LAST-MODIFIED:20251013T180829Z
UID:2371-1792310400-1792342800@www.mpba-fes.org.uk
SUMMARY:NADs Round 7
DESCRIPTION:
URL:https://www.mpba-fes.org.uk/event/nads-round-7-6/
LOCATION:BMBS\, Lancaster Road\, Bridlington\, YO15 3QY\, United Kingdom
ORGANIZER;CN="NADs (Northern Amp Draggers)":MAILTO:webmaster@ampdraggers.co.uk
END:VEVENT
END:VCALENDAR