BEGIN:VCALENDAR
VERSION:2.0
PRODID:-//MPBA - ECPv6.15.14//NONSGML v1.0//EN
CALSCALE:GREGORIAN
METHOD:PUBLISH
X-WR-CALNAME:MPBA
X-ORIGINAL-URL:https://www.mpba-fes.org.uk
X-WR-CALDESC:Events for MPBA
REFRESH-INTERVAL;VALUE=DURATION:PT1H
X-Robots-Tag:noindex
X-PUBLISHED-TTL:PT1H
BEGIN:VTIMEZONE
TZID:Europe/London
BEGIN:DAYLIGHT
TZOFFSETFROM:+0000
TZOFFSETTO:+0100
TZNAME:BST
DTSTART:20180325T010000
END:DAYLIGHT
BEGIN:STANDARD
TZOFFSETFROM:+0100
TZOFFSETTO:+0000
TZNAME:GMT
DTSTART:20181028T010000
END:STANDARD
BEGIN:DAYLIGHT
TZOFFSETFROM:+0000
TZOFFSETTO:+0100
TZNAME:BST
DTSTART:20190331T010000
END:DAYLIGHT
BEGIN:STANDARD
TZOFFSETFROM:+0100
TZOFFSETTO:+0000
TZNAME:GMT
DTSTART:20191027T010000
END:STANDARD
BEGIN:DAYLIGHT
TZOFFSETFROM:+0000
TZOFFSETTO:+0100
TZNAME:BST
DTSTART:20200329T010000
END:DAYLIGHT
BEGIN:STANDARD
TZOFFSETFROM:+0100
TZOFFSETTO:+0000
TZNAME:GMT
DTSTART:20201025T010000
END:STANDARD
BEGIN:DAYLIGHT
TZOFFSETFROM:+0000
TZOFFSETTO:+0100
TZNAME:BST
DTSTART:20210328T010000
END:DAYLIGHT
BEGIN:STANDARD
TZOFFSETFROM:+0100
TZOFFSETTO:+0000
TZNAME:GMT
DTSTART:20211031T010000
END:STANDARD
BEGIN:DAYLIGHT
TZOFFSETFROM:+0000
TZOFFSETTO:+0100
TZNAME:BST
DTSTART:20220327T010000
END:DAYLIGHT
BEGIN:STANDARD
TZOFFSETFROM:+0100
TZOFFSETTO:+0000
TZNAME:GMT
DTSTART:20221030T010000
END:STANDARD
END:VTIMEZONE
BEGIN:VEVENT
DTSTART;VALUE=DATE:20210926
DTEND;VALUE=DATE:20210927
DTSTAMP:20260421T231653
CREATED:20210130T113655Z
LAST-MODIFIED:20210130T113655Z
UID:1549-1632614400-1632700799@www.mpba-fes.org.uk
SUMMARY:NADs Round 6
DESCRIPTION:
URL:https://www.mpba-fes.org.uk/event/nads-round-6-4/
LOCATION:BMBS\, Lancaster Road\, Bridlington\, YO15 3QY\, United Kingdom
ORGANIZER;CN="NADs (Northern Amp Draggers)":MAILTO:webmaster@ampdraggers.co.uk
END:VEVENT
BEGIN:VEVENT
DTSTART;TZID=Europe/London:20210912T110000
DTEND;TZID=Europe/London:20210912T160000
DTSTAMP:20260421T231653
CREATED:20210824T092956Z
LAST-MODIFIED:20210824T094108Z
UID:1672-1631444400-1631462400@www.mpba-fes.org.uk
SUMMARY:SAWS 2021
DESCRIPTION:The 2021 SAWS event will be held at the Lancashire Powerboat Racing Club water at Carr Mill Dam.  \nTime: \n12th of September\, 11.00 AM to 4.00 PM \nLocation:\nLancashire Powerboat Racing Club\nCarr Mill Dam\nGarswood Old Road\nSt Helens\nMerseyside\nWA11 7LZ \nEntry Fee is £5 per class payable on the day. \nCheck out the LPRC website for details of the venue.   www.lancashirepowerboat.com \n There is a Restaurant there which is very good. And plenty of car parking space. \nThis is a confirmed event\, HOWEVER it is yet to be rubber stamped by their committee! There is no danger that the event won’t go ahead but check back on the MPBA or NADS sites a few days before you travel just in case. \nPlease come and support this event\, even if only to see how fast your race boat is.  \n 
URL:https://www.mpba-fes.org.uk/event/saws-2021/
LOCATION:Carr Mill Dam\, Garswood Old Road\, St Helens\, WA11 7LZ\, United Kingdom
ORGANIZER;CN="MPBA-FES":MAILTO:admin@mpba-fes.org.uk
END:VEVENT
BEGIN:VEVENT
DTSTART;VALUE=DATE:20210829
DTEND;VALUE=DATE:20210830
DTSTAMP:20260421T231653
CREATED:20210130T113606Z
LAST-MODIFIED:20210130T113606Z
UID:1547-1630195200-1630281599@www.mpba-fes.org.uk
SUMMARY:NADs Round 5
DESCRIPTION:
URL:https://www.mpba-fes.org.uk/event/nads-round-5-4/
LOCATION:BMBS\, Lancaster Road\, Bridlington\, YO15 3QY\, United Kingdom
ORGANIZER;CN="NADs (Northern Amp Draggers)":MAILTO:webmaster@ampdraggers.co.uk
END:VEVENT
BEGIN:VEVENT
DTSTART;TZID=Europe/London:20210801T080000
DTEND;TZID=Europe/London:20210801T170000
DTSTAMP:20260421T231653
CREATED:20210130T113507Z
LAST-MODIFIED:20210130T113507Z
UID:1545-1627804800-1627837200@www.mpba-fes.org.uk
SUMMARY:NADs Round 4
DESCRIPTION:
URL:https://www.mpba-fes.org.uk/event/nads-round-4-4/
LOCATION:BMBS\, Lancaster Road\, Bridlington\, YO15 3QY\, United Kingdom
ORGANIZER;CN="NADs (Northern Amp Draggers)":MAILTO:webmaster@ampdraggers.co.uk
END:VEVENT
BEGIN:VEVENT
DTSTART;VALUE=DATE:20210702
DTEND;VALUE=DATE:20210705
DTSTAMP:20260421T231653
CREATED:20210130T113911Z
LAST-MODIFIED:20210130T113911Z
UID:1553-1625184000-1625443199@www.mpba-fes.org.uk
SUMMARY:MPBA-FES Nationals
DESCRIPTION:
URL:https://www.mpba-fes.org.uk/event/mpba-fes-nationals-2/
LOCATION:BMBS\, Lancaster Road\, Bridlington\, YO15 3QY\, United Kingdom
ORGANIZER;CN="MPBA-FES":MAILTO:admin@mpba-fes.org.uk
END:VEVENT
BEGIN:VEVENT
DTSTART;VALUE=DATE:20210606
DTEND;VALUE=DATE:20210607
DTSTAMP:20260421T231653
CREATED:20210130T113932Z
LAST-MODIFIED:20210528T123759Z
UID:1543-1622937600-1623023999@www.mpba-fes.org.uk
SUMMARY:NADs Round 3(***cancelled***)
DESCRIPTION:
URL:https://www.mpba-fes.org.uk/event/nads-round-3-4/
LOCATION:BMBS\, Lancaster Road\, Bridlington\, YO15 3QY\, United Kingdom
ORGANIZER;CN="NADs (Northern Amp Draggers)":MAILTO:webmaster@ampdraggers.co.uk
END:VEVENT
BEGIN:VEVENT
DTSTART;VALUE=DATE:20210516
DTEND;VALUE=DATE:20210517
DTSTAMP:20260421T231653
CREATED:20210130T114031Z
LAST-MODIFIED:20210130T114031Z
UID:1541-1621123200-1621209599@www.mpba-fes.org.uk
SUMMARY:NADs Round 2
DESCRIPTION:
URL:https://www.mpba-fes.org.uk/event/nads-round-2-4/
LOCATION:BMBS\, Lancaster Road\, Bridlington\, YO15 3QY\, United Kingdom
ORGANIZER;CN="NADs (Northern Amp Draggers)":MAILTO:webmaster@ampdraggers.co.uk
END:VEVENT
BEGIN:VEVENT
DTSTART;VALUE=DATE:20210411
DTEND;VALUE=DATE:20210412
DTSTAMP:20260421T231653
CREATED:20210130T114054Z
LAST-MODIFIED:20210130T114054Z
UID:1538-1618099200-1618185599@www.mpba-fes.org.uk
SUMMARY:NADs Round 1
DESCRIPTION:
URL:https://www.mpba-fes.org.uk/event/nads-round-1-4/
LOCATION:BMBS\, Lancaster Road\, Bridlington\, YO15 3QY\, United Kingdom
ORGANIZER;CN="NADs (Northern Amp Draggers)":MAILTO:webmaster@ampdraggers.co.uk
END:VEVENT
BEGIN:VEVENT
DTSTART;TZID=Europe/London:20201018T080000
DTEND;TZID=Europe/London:20201018T170000
DTSTAMP:20260421T231653
CREATED:20191110T172815Z
LAST-MODIFIED:20191110T172815Z
UID:1210-1603008000-1603040400@www.mpba-fes.org.uk
SUMMARY:NADs Round 7
DESCRIPTION:
URL:https://www.mpba-fes.org.uk/event/nads-round-7-2/
LOCATION:BMBS\, Lancaster Road\, Bridlington\, YO15 3QY\, United Kingdom
END:VEVENT
BEGIN:VEVENT
DTSTART;TZID=Europe/London:20200920T080000
DTEND;TZID=Europe/London:20200920T170000
DTSTAMP:20260421T231653
CREATED:20191110T172009Z
LAST-MODIFIED:20191110T172319Z
UID:1204-1600588800-1600621200@www.mpba-fes.org.uk
SUMMARY:NADs Round 6
DESCRIPTION:
URL:https://www.mpba-fes.org.uk/event/nads-round-6-3/
LOCATION:BMBS\, Lancaster Road\, Bridlington\, YO15 3QY\, United Kingdom
END:VEVENT
BEGIN:VEVENT
DTSTART;TZID=Europe/London:20200823T080000
DTEND;TZID=Europe/London:20200823T170000
DTSTAMP:20260421T231653
CREATED:20191110T171929Z
LAST-MODIFIED:20191110T172334Z
UID:1202-1598169600-1598202000@www.mpba-fes.org.uk
SUMMARY:NADs Round 5
DESCRIPTION:
URL:https://www.mpba-fes.org.uk/event/nads-round-5-3/
LOCATION:BMBS\, Lancaster Road\, Bridlington\, YO15 3QY\, United Kingdom
END:VEVENT
BEGIN:VEVENT
DTSTART;VALUE=DATE:20200806
DTEND;VALUE=DATE:20200814
DTSTAMP:20260421T231653
CREATED:20191110T170441Z
LAST-MODIFIED:20191113T114726Z
UID:1190-1596672000-1597363199@www.mpba-fes.org.uk
SUMMARY:European Championship M/NS classes
DESCRIPTION:It has been announced that next year\, the European Championships will be held in Kaliningrad Russia (between Poland and Lithuania so not as far as you might expect [map]). \nThis will be for both M & NS classes and so it will be an opportunity to see another aspect of model boating. For those not familiar with the NS class\, it stands for Navigation Scale and is for various forms of scale model. \nMore details will follow as they become available. \n 
URL:https://www.mpba-fes.org.uk/event/european-championship-2020/
END:VEVENT
BEGIN:VEVENT
DTSTART;TZID=Europe/London:20200726T080000
DTEND;TZID=Europe/London:20200726T170000
DTSTAMP:20260421T231653
CREATED:20191110T171850Z
LAST-MODIFIED:20191110T172351Z
UID:1200-1595750400-1595782800@www.mpba-fes.org.uk
SUMMARY:NADs Round 4
DESCRIPTION:
URL:https://www.mpba-fes.org.uk/event/nads-round-4-3/
LOCATION:BMBS\, Lancaster Road\, Bridlington\, YO15 3QY\, United Kingdom
END:VEVENT
BEGIN:VEVENT
DTSTART;TZID=Europe/London:20200703T080000
DTEND;TZID=Europe/London:20200705T170000
DTSTAMP:20260421T231653
CREATED:20191110T172225Z
LAST-MODIFIED:20200331T173924Z
UID:1208-1593763200-1593968400@www.mpba-fes.org.uk
SUMMARY:MPBA FES Nationals***CANCELLED***
DESCRIPTION:
URL:https://www.mpba-fes.org.uk/event/mpba-fes-nationals/
LOCATION:BMBS\, Lancaster Road\, Bridlington\, YO15 3QY\, United Kingdom
ORGANIZER;CN="MPBA-FES":MAILTO:admin@mpba-fes.org.uk
END:VEVENT
BEGIN:VEVENT
DTSTART;TZID=Europe/London:20200607T080000
DTEND;TZID=Europe/London:20200607T170000
DTSTAMP:20260421T231653
CREATED:20191110T171808Z
LAST-MODIFIED:20200318T181100Z
UID:1198-1591516800-1591549200@www.mpba-fes.org.uk
SUMMARY:NADs Round 3***TO BE CONFIRMED***
DESCRIPTION:
URL:https://www.mpba-fes.org.uk/event/nads-round-3-3/
LOCATION:BMBS\, Lancaster Road\, Bridlington\, YO15 3QY\, United Kingdom
END:VEVENT
BEGIN:VEVENT
DTSTART;TZID=Europe/London:20200503T080000
DTEND;TZID=Europe/London:20200503T170000
DTSTAMP:20260421T231653
CREATED:20191110T171716Z
LAST-MODIFIED:20200318T180935Z
UID:1196-1588492800-1588525200@www.mpba-fes.org.uk
SUMMARY:NADs Round 2 ***TO BE CONFIRMED***
DESCRIPTION:
URL:https://www.mpba-fes.org.uk/event/nads-round-2-3/
LOCATION:BMBS\, Lancaster Road\, Bridlington\, YO15 3QY\, United Kingdom
END:VEVENT
BEGIN:VEVENT
DTSTART;TZID=Europe/London:20200405T080000
DTEND;TZID=Europe/London:20200405T170000
DTSTAMP:20260421T231653
CREATED:20191110T171620Z
LAST-MODIFIED:20200318T180859Z
UID:1194-1586073600-1586106000@www.mpba-fes.org.uk
SUMMARY:NADs Round 1 ***CANCELLED***
DESCRIPTION:Please bring your MPBA membership card with you. \nCharges remain the same as last year ie. \nNADs membership £10\, £4 per class entered\, £2 transponder hire.
URL:https://www.mpba-fes.org.uk/event/nads-round-1-3/
LOCATION:BMBS\, Lancaster Road\, Bridlington\, YO15 3QY\, United Kingdom
END:VEVENT
BEGIN:VEVENT
DTSTART;TZID=Europe/London:20191110T080000
DTEND;TZID=Europe/London:20191110T170000
DTSTAMP:20260421T231653
CREATED:20191110T172041Z
LAST-MODIFIED:20191110T172301Z
UID:1206-1573372800-1573405200@www.mpba-fes.org.uk
SUMMARY:NADs Round 7
DESCRIPTION:
URL:https://www.mpba-fes.org.uk/event/nads-round-7/
LOCATION:BMBS\, Lancaster Road\, Bridlington\, YO15 3QY\, United Kingdom
END:VEVENT
BEGIN:VEVENT
DTSTART;TZID=Europe/London:20190929T080000
DTEND;TZID=Europe/London:20190929T170000
DTSTAMP:20260421T231653
CREATED:20181123T102405Z
LAST-MODIFIED:20181123T103007Z
UID:890-1569744000-1569776400@www.mpba-fes.org.uk
SUMMARY:NADs Round 7 and AGM
DESCRIPTION:
URL:https://www.mpba-fes.org.uk/event/nads-round-7-and-agm-2/
LOCATION:BMBS\, Lancaster Road\, Bridlington\, YO15 3QY\, United Kingdom
END:VEVENT
BEGIN:VEVENT
DTSTART;TZID=Europe/London:20190921T080000
DTEND;TZID=Europe/London:20190921T170000
DTSTAMP:20260421T231653
CREATED:20181129T165400Z
LAST-MODIFIED:20181129T165400Z
UID:909-1569052800-1569085200@www.mpba-fes.org.uk
SUMMARY:Electra Round 7
DESCRIPTION:
URL:https://www.mpba-fes.org.uk/event/electra-round-7-2/
LOCATION:Althorne\, Althorne\, CM3 6DP
END:VEVENT
BEGIN:VEVENT
DTSTART;TZID=Europe/London:20190908T080000
DTEND;TZID=Europe/London:20190908T170000
DTSTAMP:20260421T231653
CREATED:20181129T165302Z
LAST-MODIFIED:20181129T165302Z
UID:907-1567929600-1567962000@www.mpba-fes.org.uk
SUMMARY:Electra Round 6
DESCRIPTION:
URL:https://www.mpba-fes.org.uk/event/electra-round-6-2/
LOCATION:Elmbridge\, Egham\, TW20 8RJ\, United Kingdom
END:VEVENT
BEGIN:VEVENT
DTSTART;TZID=Europe/London:20190901T080000
DTEND;TZID=Europe/London:20190901T170000
DTSTAMP:20260421T231653
CREATED:20181123T102304Z
LAST-MODIFIED:20181123T102304Z
UID:888-1567324800-1567357200@www.mpba-fes.org.uk
SUMMARY:NADs Round 6
DESCRIPTION:
URL:https://www.mpba-fes.org.uk/event/nads-round-6-2/
LOCATION:BMBS\, Lancaster Road\, Bridlington\, YO15 3QY\, United Kingdom
END:VEVENT
BEGIN:VEVENT
DTSTART;TZID=Europe/London:20190817T080000
DTEND;TZID=Europe/London:20190817T170000
DTSTAMP:20260421T231653
CREATED:20181129T165148Z
LAST-MODIFIED:20181215T083740Z
UID:905-1566028800-1566061200@www.mpba-fes.org.uk
SUMMARY:Electra Round 5
DESCRIPTION:
URL:https://www.mpba-fes.org.uk/event/electra-round-5-2/
LOCATION:Beale Park\, Lower Basildon\, Reading\, RG8 9NW
END:VEVENT
BEGIN:VEVENT
DTSTART;TZID=Europe/London:20190804T080000
DTEND;TZID=Europe/London:20190804T170000
DTSTAMP:20260421T231653
CREATED:20181129T165048Z
LAST-MODIFIED:20181129T165048Z
UID:903-1564905600-1564938000@www.mpba-fes.org.uk
SUMMARY:Electra Round 4
DESCRIPTION:
URL:https://www.mpba-fes.org.uk/event/electra-round-4-2/
LOCATION:Elmbridge\, Egham\, TW20 8RJ\, United Kingdom
END:VEVENT
BEGIN:VEVENT
DTSTART;VALUE=DATE:20190801
DTEND;VALUE=DATE:20190811
DTSTAMP:20260421T231653
CREATED:20181122T075322Z
LAST-MODIFIED:20181122T082322Z
UID:871-1564617600-1565481599@www.mpba-fes.org.uk
SUMMARY:Naviga M Class World Championships 2019
DESCRIPTION:Further details of this event will be added as they become available.
URL:https://www.mpba-fes.org.uk/event/naviga-m-class-world-championships-2019/
LOCATION:Italy (Lake Le Bandie\, Treviso)\, Lago Le Bandie\, Treviso\, Treviso\, Italy
END:VEVENT
BEGIN:VEVENT
DTSTART;TZID=Europe/London:20190728T080000
DTEND;TZID=Europe/London:20190728T170000
DTSTAMP:20260421T231653
CREATED:20181123T102209Z
LAST-MODIFIED:20181123T102209Z
UID:886-1564300800-1564333200@www.mpba-fes.org.uk
SUMMARY:NADs Round 5
DESCRIPTION:
URL:https://www.mpba-fes.org.uk/event/nads-round-5-2/
LOCATION:BMBS\, Lancaster Road\, Bridlington\, YO15 3QY\, United Kingdom
END:VEVENT
BEGIN:VEVENT
DTSTART;TZID=Europe/London:20190714T080000
DTEND;TZID=Europe/London:20190714T170000
DTSTAMP:20260421T231653
CREATED:20190302T065200Z
LAST-MODIFIED:20200318T181229Z
UID:937-1563091200-1563123600@www.mpba-fes.org.uk
SUMMARY:MPBA UK SAWs
DESCRIPTION:The date of the 2019 SAWs (fastest in a straight line) has been announced. \nThe event is organised by the MPBA and will be held at Rawdon Model Boat Club. \nAs you will see from the results\, some classes have\, to date\, not been contested and so you too can become a record holder. \nPre-booking is not required but it would be appreciated if you could let either Ian Williams ( ian@electro-marine.co.uk ) or Keith Mallam ( keithmallam@live.co.uk ) know if you intend to attend so that some idea of numbers can be had. \nYou will find rules here.
URL:https://www.mpba-fes.org.uk/event/mpba-uk-saws-3/
LOCATION:Rawdon MBC\, Larkfield Road\, Rawdon\, Yorkshire\, LS19 6EQ\, United Kingdom
ORGANIZER;CN="MPBA-FES":MAILTO:admin@mpba-fes.org.uk
END:VEVENT
BEGIN:VEVENT
DTSTART;TZID=Europe/London:20190714T080000
DTEND;TZID=Europe/London:20190714T170000
DTSTAMP:20260421T231653
CREATED:20181129T164940Z
LAST-MODIFIED:20181129T164940Z
UID:901-1563091200-1563123600@www.mpba-fes.org.uk
SUMMARY:Electra Round 3
DESCRIPTION:
URL:https://www.mpba-fes.org.uk/event/electra-round-3-2/
LOCATION:Beale Park\, Lower Basildon\, Reading\, RG8 9NW
END:VEVENT
BEGIN:VEVENT
DTSTART;TZID=Europe/London:20190628T090000
DTEND;TZID=Europe/London:20190630T170000
DTSTAMP:20260421T231653
CREATED:20181006T090028Z
LAST-MODIFIED:20181006T090259Z
UID:860-1561712400-1561914000@www.mpba-fes.org.uk
SUMMARY:MPBA UK Nationals
DESCRIPTION:
URL:https://www.mpba-fes.org.uk/event/mpba-uk-nationals-2/
LOCATION:BMBS\, Lancaster Road\, Bridlington\, YO15 3QY\, United Kingdom
ORGANIZER;CN="MPBA-FES":MAILTO:admin@mpba-fes.org.uk
END:VEVENT
BEGIN:VEVENT
DTSTART;TZID=Europe/London:20190623T080000
DTEND;TZID=Europe/London:20190623T170000
DTSTAMP:20260421T231653
CREATED:20181129T164810Z
LAST-MODIFIED:20181129T164810Z
UID:899-1561276800-1561309200@www.mpba-fes.org.uk
SUMMARY:Electra Round 2
DESCRIPTION:
URL:https://www.mpba-fes.org.uk/event/electra-round-2-2/
LOCATION:Althorne\, Althorne\, CM3 6DP
END:VEVENT
END:VCALENDAR