BEGIN:VCALENDAR
VERSION:2.0
PRODID:-//MPBA - ECPv6.15.14//NONSGML v1.0//EN
CALSCALE:GREGORIAN
METHOD:PUBLISH
X-WR-CALNAME:MPBA
X-ORIGINAL-URL:https://www.mpba-fes.org.uk
X-WR-CALDESC:Events for MPBA
REFRESH-INTERVAL;VALUE=DURATION:PT1H
X-Robots-Tag:noindex
X-PUBLISHED-TTL:PT1H
BEGIN:VTIMEZONE
TZID:Europe/Warsaw
BEGIN:DAYLIGHT
TZOFFSETFROM:+0100
TZOFFSETTO:+0200
TZNAME:CEST
DTSTART:20170326T010000
END:DAYLIGHT
BEGIN:STANDARD
TZOFFSETFROM:+0200
TZOFFSETTO:+0100
TZNAME:CET
DTSTART:20171029T010000
END:STANDARD
BEGIN:DAYLIGHT
TZOFFSETFROM:+0100
TZOFFSETTO:+0200
TZNAME:CEST
DTSTART:20180325T010000
END:DAYLIGHT
BEGIN:STANDARD
TZOFFSETFROM:+0200
TZOFFSETTO:+0100
TZNAME:CET
DTSTART:20181028T010000
END:STANDARD
BEGIN:DAYLIGHT
TZOFFSETFROM:+0100
TZOFFSETTO:+0200
TZNAME:CEST
DTSTART:20190331T010000
END:DAYLIGHT
BEGIN:STANDARD
TZOFFSETFROM:+0200
TZOFFSETTO:+0100
TZNAME:CET
DTSTART:20191027T010000
END:STANDARD
END:VTIMEZONE
BEGIN:VTIMEZONE
TZID:Europe/London
BEGIN:DAYLIGHT
TZOFFSETFROM:+0000
TZOFFSETTO:+0100
TZNAME:BST
DTSTART:20170326T010000
END:DAYLIGHT
BEGIN:STANDARD
TZOFFSETFROM:+0100
TZOFFSETTO:+0000
TZNAME:GMT
DTSTART:20171029T010000
END:STANDARD
BEGIN:DAYLIGHT
TZOFFSETFROM:+0000
TZOFFSETTO:+0100
TZNAME:BST
DTSTART:20180325T010000
END:DAYLIGHT
BEGIN:STANDARD
TZOFFSETFROM:+0100
TZOFFSETTO:+0000
TZNAME:GMT
DTSTART:20181028T010000
END:STANDARD
BEGIN:DAYLIGHT
TZOFFSETFROM:+0000
TZOFFSETTO:+0100
TZNAME:BST
DTSTART:20190331T010000
END:DAYLIGHT
BEGIN:STANDARD
TZOFFSETFROM:+0100
TZOFFSETTO:+0000
TZNAME:GMT
DTSTART:20191027T010000
END:STANDARD
END:VTIMEZONE
BEGIN:VEVENT
DTSTART;TZID=Europe/Warsaw:20180601T080000
DTEND;TZID=Europe/Warsaw:20180603T170000
DTSTAMP:20260422T080846
CREATED:20171210T145513Z
LAST-MODIFIED:20180504T085658Z
UID:280-1527840000-1528045200@www.mpba-fes.org.uk
SUMMARY:Tenshock Cup (Poland)
DESCRIPTION:
URL:https://www.mpba-fes.org.uk/event/tenshock-cup/
LOCATION:Poland(Lesznowola)\, Lesznowola\, Poland
END:VEVENT
BEGIN:VEVENT
DTSTART;TZID=Europe/London:20180520T080000
DTEND;TZID=Europe/London:20180520T170000
DTSTAMP:20260422T080846
CREATED:20171210T143337Z
LAST-MODIFIED:20171210T143337Z
UID:268-1526803200-1526835600@www.mpba-fes.org.uk
SUMMARY:NADs Round 3
DESCRIPTION:
URL:https://www.mpba-fes.org.uk/event/nads-round-3/
LOCATION:BMBS\, Lancaster Road\, Bridlington\, YO15 3QY\, United Kingdom
END:VEVENT
BEGIN:VEVENT
DTSTART;TZID=Europe/London:20180513T080000
DTEND;TZID=Europe/London:20180513T170000
DTSTAMP:20260422T080846
CREATED:20171210T150738Z
LAST-MODIFIED:20171210T150738Z
UID:289-1526198400-1526230800@www.mpba-fes.org.uk
SUMMARY:Electra Round 3
DESCRIPTION:
URL:https://www.mpba-fes.org.uk/event/electra-round-3/
LOCATION:Beale Park\, Lower Basildon\, Reading\, RG8 9NW
END:VEVENT
BEGIN:VEVENT
DTSTART;TZID=Europe/London:20180511T080000
DTEND;TZID=Europe/London:20180513T170000
DTSTAMP:20260422T080846
CREATED:20180504T085253Z
LAST-MODIFIED:20180504T085535Z
UID:726-1526025600-1526230800@www.mpba-fes.org.uk
SUMMARY:Moers International Race (Germany)
DESCRIPTION:Please see here for details.
URL:https://www.mpba-fes.org.uk/event/moers-international-race-germany/
END:VEVENT
BEGIN:VEVENT
DTSTART;TZID=Europe/London:20180429T080000
DTEND;TZID=Europe/London:20180429T170000
DTSTAMP:20260422T080846
CREATED:20171210T150504Z
LAST-MODIFIED:20171210T150504Z
UID:286-1524988800-1525021200@www.mpba-fes.org.uk
SUMMARY:Electra Round 2
DESCRIPTION:
URL:https://www.mpba-fes.org.uk/event/electra-round-2/
LOCATION:Althorne\, Althorne\, CM3 6DP
END:VEVENT
BEGIN:VEVENT
DTSTART;TZID=Europe/London:20180429T080000
DTEND;TZID=Europe/London:20180429T170000
DTSTAMP:20260422T080846
CREATED:20171205T191104Z
LAST-MODIFIED:20171205T191247Z
UID:129-1524988800-1525021200@www.mpba-fes.org.uk
SUMMARY:MPBA UK SAWs
DESCRIPTION:
URL:https://www.mpba-fes.org.uk/event/mpba-uk-saws/
LOCATION:Rawdon MBC\, Larkfield Road\, Rawdon\, Yorkshire\, LS19 6EQ\, United Kingdom
END:VEVENT
BEGIN:VEVENT
DTSTART;TZID=Europe/London:20180415T080000
DTEND;TZID=Europe/London:20180415T170000
DTSTAMP:20260422T080846
CREATED:20171205T182729Z
LAST-MODIFIED:20171205T183116Z
UID:121-1523779200-1523811600@www.mpba-fes.org.uk
SUMMARY:NADs Round 2
DESCRIPTION:
URL:https://www.mpba-fes.org.uk/event/nads-round-2/
LOCATION:BMBS\, Lancaster Road\, Bridlington\, YO15 3QY\, United Kingdom
END:VEVENT
BEGIN:VEVENT
DTSTART;TZID=Europe/London:20180407T080000
DTEND;TZID=Europe/London:20180407T170000
DTSTAMP:20260422T080846
CREATED:20171210T145930Z
LAST-MODIFIED:20171210T145930Z
UID:283-1523088000-1523120400@www.mpba-fes.org.uk
SUMMARY:Electra Round 1
DESCRIPTION:
URL:https://www.mpba-fes.org.uk/event/electra-round-1/
LOCATION:Elmbridge\, Egham\, TW20 8RJ\, United Kingdom
END:VEVENT
BEGIN:VEVENT
DTSTART;TZID=Europe/London:20180325T080000
DTEND;TZID=Europe/London:20180325T170000
DTSTAMP:20260422T080846
CREATED:20171205T182700Z
LAST-MODIFIED:20171205T183423Z
UID:119-1521964800-1521997200@www.mpba-fes.org.uk
SUMMARY:NADs Round 1
DESCRIPTION:
URL:https://www.mpba-fes.org.uk/event/nads-round-1/
LOCATION:BMBS\, Lancaster Road\, Bridlington\, YO15 3QY\, United Kingdom
END:VEVENT
END:VCALENDAR